BEGIN:VCALENDAR
VERSION:2.0
PRODID:-//Safe Schools Desert Cities - ECPv6.15.20//NONSGML v1.0//EN
CALSCALE:GREGORIAN
METHOD:PUBLISH
X-WR-CALNAME:Safe Schools Desert Cities
X-ORIGINAL-URL:https://www.safeschoolsdc.org
X-WR-CALDESC:Events for Safe Schools Desert Cities
REFRESH-INTERVAL;VALUE=DURATION:PT1H
X-Robots-Tag:noindex
X-PUBLISHED-TTL:PT1H
BEGIN:VTIMEZONE
TZID:America/Los_Angeles
BEGIN:DAYLIGHT
TZOFFSETFROM:-0800
TZOFFSETTO:-0700
TZNAME:PDT
DTSTART:20170312T100000
END:DAYLIGHT
BEGIN:STANDARD
TZOFFSETFROM:-0700
TZOFFSETTO:-0800
TZNAME:PST
DTSTART:20171105T090000
END:STANDARD
BEGIN:DAYLIGHT
TZOFFSETFROM:-0800
TZOFFSETTO:-0700
TZNAME:PDT
DTSTART:20180311T100000
END:DAYLIGHT
BEGIN:STANDARD
TZOFFSETFROM:-0700
TZOFFSETTO:-0800
TZNAME:PST
DTSTART:20181104T090000
END:STANDARD
BEGIN:DAYLIGHT
TZOFFSETFROM:-0800
TZOFFSETTO:-0700
TZNAME:PDT
DTSTART:20190310T100000
END:DAYLIGHT
BEGIN:STANDARD
TZOFFSETFROM:-0700
TZOFFSETTO:-0800
TZNAME:PST
DTSTART:20191103T090000
END:STANDARD
END:VTIMEZONE
BEGIN:VEVENT
DTSTART;VALUE=DATE:20180714
DTEND;VALUE=DATE:20180715
DTSTAMP:20260424T204606
CREATED:20170907T035635Z
LAST-MODIFIED:20180709T180505Z
UID:1154-1531526400-1531612799@www.safeschoolsdc.org
SUMMARY:San Diego Pride Parade & Festival - 2018
DESCRIPTION:** BUS TRIP CANCELLED **\nStudents & Parents\,\nPlease accept our apology for the regretful but necessary cancelation of the bus trip to San Diego Pride on July 14th. The low registration numbers did not support the huge cost of transportation and logistics for an event of this nature.  All deposits paid will be immediately refunded to the credit card used during registration. \nWe are grateful for your interest and willingness to march with us and we share in the disappointment of not being able to participate in the parade. However\, we look forward to being back stronger than ever before\, in July 2019\, to celebrate the 50th Anniversary of Stonewall. \nThanks for your understanding\,\nBoard of Directors\nSafe Schools Desert Cities
URL:https://www.safeschoolsdc.org/event/san-diego-pride-parade-festival-2018
CATEGORIES:Festival,GSA Events,Parade,Pride
ATTACH;FMTTYPE=image/jpeg:https://www.safeschoolsdc.org/wp-content/uploads/2015/07/sd-pride-logo-259x300.jpg
ORGANIZER;CN="Safe Schools | Desert Cities":MAILTO:events {@} safeschoolsdc.org
END:VEVENT
BEGIN:VEVENT
DTSTART;VALUE=DATE:20180608
DTEND;VALUE=DATE:20180612
DTSTAMP:20260424T204606
CREATED:20180608T044649Z
LAST-MODIFIED:20180608T044649Z
UID:1275-1528416000-1528761599@www.safeschoolsdc.org
SUMMARY:Pride in the Pines - LGBT Leadership Camp
DESCRIPTION:
URL:https://www.safeschoolsdc.org/event/pride-in-the-pines-lgbt-leadership-camp
CATEGORIES:Empowerment,Leadership,Pride
ATTACH;FMTTYPE=image/jpeg:https://www.safeschoolsdc.org/wp-content/uploads/2018/05/IMG_3886-850x375.jpg
ORGANIZER;CN="Safe Schools | Desert Cities":MAILTO:events {@} safeschoolsdc.org
END:VEVENT
BEGIN:VEVENT
DTSTART;TZID=America/Los_Angeles:20180518T093000
DTEND;TZID=America/Los_Angeles:20180518T110000
DTSTAMP:20260424T204606
CREATED:20170907T040750Z
LAST-MODIFIED:20170907T040750Z
UID:1167-1526635800-1526641200@www.safeschoolsdc.org
SUMMARY:Harvey Milk Diversity Breakfast - 2018
DESCRIPTION:Presented by Greater Palm Springs Pride\, Equality California and the Coachella Valley Harvey Milk Diversity Breakfast Coalition \nFriday\, May 18\, 2018 \n9:30-11:00 am (Registration begins at 8:45am\, Program begins at 9:30am sharp) \nPalm Springs Convention Center\, 277 N. Avenida Caballeros \nOpen to all – this event is for individuals\, businesses\, interfaith groups\, civic officials and nonprofit organizations. \n  \nABOUT HARVEY MILK\nWhen he was elected to the San Francisco Board of Supervisors in 1977\, Harvey Milk (1930- 1978) became one of the first openly gay men to be elected to political office in the United States. On election night\, Harvey Milk reminded his supporters: “This is not my victory – it’s yours. If a gay man can win\, it proves that there is hope for all minorities who are willing to fight.” He was assassinated (along with Mayor George Moscone) on November 27\, 1978\, only eleven months after taking office. Although he did not live to see his dreams fulfilled\, the example of his life and leadership has made him an important national symbol for the struggle for human rights. \nProceeds benefit Coachella Valley youth through Gay-Straight Alliance clubs and LGBT youth related programs. \n 
URL:https://www.safeschoolsdc.org/event/harvey-milk-diversity-breakfast-2018
LOCATION:Palm Springs Convention Center\, 277 N. Avenida Caballeros\, Palm Springs\, CA\, 92262\, United States
CATEGORIES:Empowerment,GSA Events,Leadership,Pride
ATTACH;FMTTYPE=image/jpeg:https://www.safeschoolsdc.org/wp-content/uploads/2015/08/Ticket-Stub-graphics_MILK-11-300x300.jpg
ORGANIZER;CN="Safe Schools | Desert Cities":MAILTO:events {@} safeschoolsdc.org
END:VEVENT
BEGIN:VEVENT
DTSTART;TZID=America/Los_Angeles:20180511T200000
DTEND;TZID=America/Los_Angeles:20180512T000000
DTSTAMP:20260424T204606
CREATED:20170907T035348Z
LAST-MODIFIED:20170909T063727Z
UID:1152-1526068800-1526083200@www.safeschoolsdc.org
SUMMARY:Pride Prom - 2018
DESCRIPTION:You don’t want to miss this years AMAZING Pride Prom!! \nHeld at the Palm Springs Air Museum\, this Pride Prom is going to be even better than the last. More music\, more dancing\, and most importantly\, more of the LGBTQ Pride that we know you all love. \n  \nMore Details to Come
URL:https://www.safeschoolsdc.org/event/pride-prom-2018
LOCATION:Palm Springs Air Museum\, Palm Springs\, CA\, 92262\, United States
CATEGORIES:Pride Prom
ATTACH;FMTTYPE=image/png:https://www.safeschoolsdc.org/wp-content/uploads/2015/07/generic-image.png
ORGANIZER;CN="Safe Schools | Desert Cities":MAILTO:events {@} safeschoolsdc.org
END:VEVENT
BEGIN:VEVENT
DTSTART;VALUE=DATE:20180427
DTEND;VALUE=DATE:20180428
DTSTAMP:20260424T204606
CREATED:20170907T040508Z
LAST-MODIFIED:20170907T040508Z
UID:1165-1524787200-1524873599@www.safeschoolsdc.org
SUMMARY:Day of Silence - 2018
DESCRIPTION:About GLSENs Day of Silence\n\n\n\n\n\nGLSENs Day of Silence is a national day of action in which students across the country vow to take a form of silence to call attention to the silencing effect of anti-LGBT bullying and harassment in schools. \n\n\n\n\n\nHistory\n\n\n\n\n\nFounded in 1996\, the Day of Silence has become the largest single student-led action towards creating safer schools for all\, regardless of sexual orientation\, gender identity or gender expression. From the first-ever Day of Silence at the University of Virginia in 1996\, to the organizing efforts in over 8\,000 middle schools\, high schools\, colleges and universities across the country in 2008\, its textured history reflects its diversity in both numbers and reach.\n\n\n\n\n\nOrganizing for Day of Silence\n\n\n\n\n\nOrganizing a Day of Silence (DOS) activity or event can be a positive tool for change-both personally and community-wide. By taking a vow of silence\, you’re making a powerful statement about the important issue of anti-LGBT bullying\, and when you organize others to join you that message becomes stronger. Discover ways of organizing your event here. \n\n\n\n\n\nYour Rights\n\n\n\n\n\nWhile you DO have a right to participate in GLSENs Day of Silence between classes and before and after school\, you may NOT have the right to stay silent during instructional time if a teacher requests for you to speak. According to Lambda Legal\, “Under the Constitution\, public schools must respect students’ right to free speech. The right to speak includes the right not to speak\, as well as the right to wear buttons or T-shirts expressing support for a cause.” However\, this right to free speech doesn’t extend to classroom time. “If a teacher tells a student to answer a question during class\, the student generally doesn’t have a constitutional right to refuse to answer.” We remind participants that students who talk with their teachers ahead of time are more likely to be able to remain silent during class.  Find more Lambda Legal advice here.\n\n\n\n\n\nLegal Help: Report It! \n\n\n\n\n\nIf you think your rights are not being respected\, or want to report your experience of resistant administration\, click here to report it. GLSEN and Lambda Legal will review your situation.\n\n\n\n\n\nThe Truth about the Day of Silence\n\n\n\n\n\nAs GLSENs Day of Silence continues to grow\, some people have confused the mission and goals of the Action. Clear up any misinformation by reading The Truth about the Day of Silence.
URL:https://www.safeschoolsdc.org/event/day-of-silence-2018
CATEGORIES:Empowerment,GSA Events
ATTACH;FMTTYPE=image/jpeg:https://www.safeschoolsdc.org/wp-content/uploads/2015/08/Silence.jpg
END:VEVENT
END:VCALENDAR