BEGIN:VCALENDAR
VERSION:2.0
PRODID:-//Safe Schools Desert Cities - ECPv6.15.20//NONSGML v1.0//EN
CALSCALE:GREGORIAN
METHOD:PUBLISH
X-WR-CALNAME:Safe Schools Desert Cities
X-ORIGINAL-URL:https://www.safeschoolsdc.org
X-WR-CALDESC:Events for Safe Schools Desert Cities
REFRESH-INTERVAL;VALUE=DURATION:PT1H
X-Robots-Tag:noindex
X-PUBLISHED-TTL:PT1H
BEGIN:VTIMEZONE
TZID:America/Los_Angeles
BEGIN:DAYLIGHT
TZOFFSETFROM:-0800
TZOFFSETTO:-0700
TZNAME:PDT
DTSTART:20250309T100000
END:DAYLIGHT
BEGIN:STANDARD
TZOFFSETFROM:-0700
TZOFFSETTO:-0800
TZNAME:PST
DTSTART:20251102T090000
END:STANDARD
BEGIN:DAYLIGHT
TZOFFSETFROM:-0800
TZOFFSETTO:-0700
TZNAME:PDT
DTSTART:20260308T100000
END:DAYLIGHT
BEGIN:STANDARD
TZOFFSETFROM:-0700
TZOFFSETTO:-0800
TZNAME:PST
DTSTART:20261101T090000
END:STANDARD
BEGIN:DAYLIGHT
TZOFFSETFROM:-0800
TZOFFSETTO:-0700
TZNAME:PDT
DTSTART:20270314T100000
END:DAYLIGHT
BEGIN:STANDARD
TZOFFSETFROM:-0700
TZOFFSETTO:-0800
TZNAME:PST
DTSTART:20271107T090000
END:STANDARD
END:VTIMEZONE
BEGIN:VEVENT
DTSTART;TZID=America/Los_Angeles:20260515T190000
DTEND;TZID=America/Los_Angeles:20260515T230000
DTSTAMP:20260424T152238
CREATED:20250908T014151Z
LAST-MODIFIED:20260414T165111Z
UID:3228-1778871600-1778886000@www.safeschoolsdc.org
SUMMARY:Pride Prom '26
DESCRIPTION:Pride Prom is an annual event celebrating LGBTQ+ youth and their allies. It’s a night where students can dress how they want\, dance with whomever they want\, and be themselves—free from fear or judgment—in a safe\, welcoming\, and affirming environment. \n\nFeaturing DJ Alf Alpha\, live performances\, dancing\, food\, and lots of fun\, Pride Prom creates a space where LGBTQ+ youth and their allies can celebrate freely and authentically. \nTickets: $20 per student (Tickets are on sale now)\n(Location details will be shared with registered attendees only.) \nTickets\n  \n\n\n\nFrequently Asked Questions\nHow do I register?\nFor registration information and ticket purchasing details please click/tap the purple “Tickets” button above. Advance registration is strongly encouraged\, as tickets are limited. \nCan I still come if I don’t register in advance?\nYes\, but only if tickets have not sold out. Remaining tickets will be available for purchase at the door. We highly recommend purchasing your ticket(s) in advance to guarantee entry. \nWhat is the dress code for Pride Prom?\nDress to express! Casual\, elegant\, glamorous\, or creative looks are all welcome. Come as your most authentic self. \nCan I bring a friend from outside the desert area?\nYes\, as long as they meet eligibility requirements: \n\nHigh school students (including incoming 9th graders)\, or\nCollege‑age youth up to age 22\n\nA student ID\, driver’s license\, or other valid ID is required. \nI’ve never attended before. What can I expect?\nGreat music\, great food\, dancing\, live performances by Bella da Ball and her troupe\, a photo booth\, and much more! Pride Prom is THE prom to attend. \nAre there any restrictions?\nYes. To ensure everyone’s safety: \n\nNo drugs\, alcohol\, smoking\, or vaping\nNo weapons of any kind\nAll bags will be searched prior to entry
URL:https://www.safeschoolsdc.org/event/pride-prom-2026
CATEGORIES:GSA Events,Pride Prom
ATTACH;FMTTYPE=image/png:https://www.safeschoolsdc.org/wp-content/uploads/2025/09/Pride-Prom-2026-square-1.png
END:VEVENT
END:VCALENDAR