BEGIN:VCALENDAR
VERSION:2.0
PRODID:-//Safe Schools Desert Cities - ECPv6.15.20//NONSGML v1.0//EN
CALSCALE:GREGORIAN
METHOD:PUBLISH
X-WR-CALNAME:Safe Schools Desert Cities
X-ORIGINAL-URL:https://www.safeschoolsdc.org
X-WR-CALDESC:Events for Safe Schools Desert Cities
REFRESH-INTERVAL;VALUE=DURATION:PT1H
X-Robots-Tag:noindex
X-PUBLISHED-TTL:PT1H
BEGIN:VTIMEZONE
TZID:America/Los_Angeles
BEGIN:DAYLIGHT
TZOFFSETFROM:-0800
TZOFFSETTO:-0700
TZNAME:PDT
DTSTART:20170312T100000
END:DAYLIGHT
BEGIN:STANDARD
TZOFFSETFROM:-0700
TZOFFSETTO:-0800
TZNAME:PST
DTSTART:20171105T090000
END:STANDARD
BEGIN:DAYLIGHT
TZOFFSETFROM:-0800
TZOFFSETTO:-0700
TZNAME:PDT
DTSTART:20180311T100000
END:DAYLIGHT
BEGIN:STANDARD
TZOFFSETFROM:-0700
TZOFFSETTO:-0800
TZNAME:PST
DTSTART:20181104T090000
END:STANDARD
BEGIN:DAYLIGHT
TZOFFSETFROM:-0800
TZOFFSETTO:-0700
TZNAME:PDT
DTSTART:20190310T100000
END:DAYLIGHT
BEGIN:STANDARD
TZOFFSETFROM:-0700
TZOFFSETTO:-0800
TZNAME:PST
DTSTART:20191103T090000
END:STANDARD
BEGIN:DAYLIGHT
TZOFFSETFROM:-0800
TZOFFSETTO:-0700
TZNAME:PDT
DTSTART:20200308T100000
END:DAYLIGHT
BEGIN:STANDARD
TZOFFSETFROM:-0700
TZOFFSETTO:-0800
TZNAME:PST
DTSTART:20201101T090000
END:STANDARD
BEGIN:DAYLIGHT
TZOFFSETFROM:-0800
TZOFFSETTO:-0700
TZNAME:PDT
DTSTART:20210314T100000
END:DAYLIGHT
BEGIN:STANDARD
TZOFFSETFROM:-0700
TZOFFSETTO:-0800
TZNAME:PST
DTSTART:20211107T090000
END:STANDARD
BEGIN:DAYLIGHT
TZOFFSETFROM:-0800
TZOFFSETTO:-0700
TZNAME:PDT
DTSTART:20220313T100000
END:DAYLIGHT
BEGIN:STANDARD
TZOFFSETFROM:-0700
TZOFFSETTO:-0800
TZNAME:PST
DTSTART:20221106T090000
END:STANDARD
BEGIN:DAYLIGHT
TZOFFSETFROM:-0800
TZOFFSETTO:-0700
TZNAME:PDT
DTSTART:20230312T100000
END:DAYLIGHT
BEGIN:STANDARD
TZOFFSETFROM:-0700
TZOFFSETTO:-0800
TZNAME:PST
DTSTART:20231105T090000
END:STANDARD
BEGIN:DAYLIGHT
TZOFFSETFROM:-0800
TZOFFSETTO:-0700
TZNAME:PDT
DTSTART:20240310T100000
END:DAYLIGHT
BEGIN:STANDARD
TZOFFSETFROM:-0700
TZOFFSETTO:-0800
TZNAME:PST
DTSTART:20241103T090000
END:STANDARD
END:VTIMEZONE
BEGIN:VEVENT
DTSTART;TZID=America/Los_Angeles:20230512T200000
DTEND;TZID=America/Los_Angeles:20230512T233000
DTSTAMP:20260424T171608
CREATED:20230126T032528Z
LAST-MODIFIED:20230503T100441Z
UID:2500-1683921600-1683934200@www.safeschoolsdc.org
SUMMARY:Pride Prom
DESCRIPTION: 
URL:https://www.safeschoolsdc.org/event/pride-prom
LOCATION:Palm Springs Air Museum\, Palm Springs\, CA\, 92262\, United States
CATEGORIES:GSA Events,Pride Prom
ATTACH;FMTTYPE=image/jpeg:https://www.safeschoolsdc.org/wp-content/uploads/2022/06/unnamed-1.jpg
ORGANIZER;CN="Safe Schools | Desert Cities":MAILTO:events {@} safeschoolsdc.org
END:VEVENT
BEGIN:VEVENT
DTSTART;TZID=America/Los_Angeles:20220513T200000
DTEND;TZID=America/Los_Angeles:20220513T235900
DTSTAMP:20260424T171608
CREATED:20210527T184527Z
LAST-MODIFIED:20220415T235456Z
UID:1954-1652472000-1652486340@www.safeschoolsdc.org
SUMMARY:Pride Prom - 2022
DESCRIPTION:Visit the Official Site @ http://psprideprom.com/last updated: 04/15/2022
URL:https://www.safeschoolsdc.org/event/pride-prom-2022
LOCATION:Palm Springs Air Museum\, Palm Springs\, CA\, 92262\, United States
CATEGORIES:Pride Prom
ATTACH;FMTTYPE=image/png:https://www.safeschoolsdc.org/wp-content/uploads/2022/04/2022_PRIDE_PROM_FINAL_FRONT_IG.png
ORGANIZER;CN="Safe Schools | Desert Cities":MAILTO:events {@} safeschoolsdc.org
END:VEVENT
BEGIN:VEVENT
DTSTART;TZID=America/Los_Angeles:20200508T200000
DTEND;TZID=America/Los_Angeles:20200508T235900
DTSTAMP:20260424T171608
CREATED:20190827T163032Z
LAST-MODIFIED:20200325T214916Z
UID:1585-1588968000-1588982340@www.safeschoolsdc.org
SUMMARY:** CANCELLED ** Pride Prom - 2020
DESCRIPTION:
URL:https://www.safeschoolsdc.org/event/pride-prom-2020
LOCATION:Palm Springs Air Museum\, Palm Springs\, CA\, 92262\, United States
CATEGORIES:Pride Prom
ATTACH;FMTTYPE=image/jpeg:https://www.safeschoolsdc.org/wp-content/uploads/2019/08/download.jpg
ORGANIZER;CN="Safe Schools | Desert Cities":MAILTO:events {@} safeschoolsdc.org
END:VEVENT
BEGIN:VEVENT
DTSTART;TZID=America/Los_Angeles:20190510T200000
DTEND;TZID=America/Los_Angeles:20190511T000000
DTSTAMP:20260424T171608
CREATED:20190202T174358Z
LAST-MODIFIED:20190415T195926Z
UID:1489-1557518400-1557532800@www.safeschoolsdc.org
SUMMARY:Pride Prom - 2019
DESCRIPTION:You don’t want to miss this years AMAZING Pride Prom!! \nHeld at the Palm Springs Air Museum\, this Pride Prom is going to be even better than the last. More music\, more dancing\, and most importantly\, more of the LGBTQ Pride that we know you all love. \nView PDF Flyer
URL:https://www.safeschoolsdc.org/event/pride-prom-2019
LOCATION:Palm Springs Air Museum\, Palm Springs\, CA\, 92262\, United States
CATEGORIES:Pride Prom
ATTACH;FMTTYPE=image/png:https://www.safeschoolsdc.org/wp-content/uploads/2015/07/generic-image.png
ORGANIZER;CN="Safe Schools | Desert Cities":MAILTO:events {@} safeschoolsdc.org
END:VEVENT
BEGIN:VEVENT
DTSTART;TZID=America/Los_Angeles:20180511T200000
DTEND;TZID=America/Los_Angeles:20180512T000000
DTSTAMP:20260424T171608
CREATED:20170907T035348Z
LAST-MODIFIED:20170909T063727Z
UID:1152-1526068800-1526083200@www.safeschoolsdc.org
SUMMARY:Pride Prom - 2018
DESCRIPTION:You don’t want to miss this years AMAZING Pride Prom!! \nHeld at the Palm Springs Air Museum\, this Pride Prom is going to be even better than the last. More music\, more dancing\, and most importantly\, more of the LGBTQ Pride that we know you all love. \n  \nMore Details to Come
URL:https://www.safeschoolsdc.org/event/pride-prom-2018
LOCATION:Palm Springs Air Museum\, Palm Springs\, CA\, 92262\, United States
CATEGORIES:Pride Prom
ATTACH;FMTTYPE=image/png:https://www.safeschoolsdc.org/wp-content/uploads/2015/07/generic-image.png
ORGANIZER;CN="Safe Schools | Desert Cities":MAILTO:events {@} safeschoolsdc.org
END:VEVENT
END:VCALENDAR