BEGIN:VCALENDAR
VERSION:2.0
PRODID:-//Safe Schools Desert Cities - ECPv6.15.20//NONSGML v1.0//EN
CALSCALE:GREGORIAN
METHOD:PUBLISH
X-ORIGINAL-URL:https://www.safeschoolsdc.org
X-WR-CALDESC:Events for Safe Schools Desert Cities
REFRESH-INTERVAL;VALUE=DURATION:PT1H
X-Robots-Tag:noindex
X-PUBLISHED-TTL:PT1H
BEGIN:VTIMEZONE
TZID:America/Los_Angeles
BEGIN:DAYLIGHT
TZOFFSETFROM:-0800
TZOFFSETTO:-0700
TZNAME:PDT
DTSTART:20250309T100000
END:DAYLIGHT
BEGIN:STANDARD
TZOFFSETFROM:-0700
TZOFFSETTO:-0800
TZNAME:PST
DTSTART:20251102T090000
END:STANDARD
BEGIN:DAYLIGHT
TZOFFSETFROM:-0800
TZOFFSETTO:-0700
TZNAME:PDT
DTSTART:20260308T100000
END:DAYLIGHT
BEGIN:STANDARD
TZOFFSETFROM:-0700
TZOFFSETTO:-0800
TZNAME:PST
DTSTART:20261101T090000
END:STANDARD
BEGIN:DAYLIGHT
TZOFFSETFROM:-0800
TZOFFSETTO:-0700
TZNAME:PDT
DTSTART:20270314T100000
END:DAYLIGHT
BEGIN:STANDARD
TZOFFSETFROM:-0700
TZOFFSETTO:-0800
TZNAME:PST
DTSTART:20271107T090000
END:STANDARD
END:VTIMEZONE
BEGIN:VEVENT
DTSTART;VALUE=DATE:20260522
DTEND;VALUE=DATE:20260523
DTSTAMP:20260421T044115
CREATED:20250908T014332Z
LAST-MODIFIED:20260404T195324Z
UID:3230-1779408000-1779494399@www.safeschoolsdc.org
SUMMARY:Harvey Milk Day
DESCRIPTION:Harvey Milk Day is a day to celebrate the life and legacy of Harvey Milk\, who was a pioneer for the LGBTQ+ rights movement in the United States. He was one of the first openly gay elected officials in the country\, and he used his position to advocate for equality\, justice\, and dignity for all people. He also inspired many others to follow his example and pursue their dreams. Harvey Milk Day is a day to honor his courage\, vision\, and leadership\, as well as his sacrifice. He was assassinated by a former colleague who opposed his views and policies. Harvey Milk Day is a day to remember his contributions and achievements\, as well as his message of hope and love. He once said\, “You gotta give them hope.” Harvey Milk Day is a day to give hope to the LGBTQ+ community and their allies\, and to continue the fight for a better world. \nHarvey Milk Foundation – Home of the Harvey Milk Foundation
URL:https://www.safeschoolsdc.org/event/harvey-milk-day-2
CATEGORIES:Awareness Date
ATTACH;FMTTYPE=image/jpeg:https://www.safeschoolsdc.org/wp-content/uploads/2025/09/HARVEYMILK.jpg
END:VEVENT
END:VCALENDAR