BEGIN:VCALENDAR
VERSION:2.0
PRODID:-//Safe Schools Desert Cities - ECPv6.15.20//NONSGML v1.0//EN
CALSCALE:GREGORIAN
METHOD:PUBLISH
X-ORIGINAL-URL:https://www.safeschoolsdc.org
X-WR-CALDESC:Events for Safe Schools Desert Cities
REFRESH-INTERVAL;VALUE=DURATION:PT1H
X-Robots-Tag:noindex
X-PUBLISHED-TTL:PT1H
BEGIN:VTIMEZONE
TZID:America/Los_Angeles
BEGIN:DAYLIGHT
TZOFFSETFROM:-0800
TZOFFSETTO:-0700
TZNAME:PDT
DTSTART:20240310T100000
END:DAYLIGHT
BEGIN:STANDARD
TZOFFSETFROM:-0700
TZOFFSETTO:-0800
TZNAME:PST
DTSTART:20241103T090000
END:STANDARD
BEGIN:DAYLIGHT
TZOFFSETFROM:-0800
TZOFFSETTO:-0700
TZNAME:PDT
DTSTART:20250309T100000
END:DAYLIGHT
BEGIN:STANDARD
TZOFFSETFROM:-0700
TZOFFSETTO:-0800
TZNAME:PST
DTSTART:20251102T090000
END:STANDARD
BEGIN:DAYLIGHT
TZOFFSETFROM:-0800
TZOFFSETTO:-0700
TZNAME:PDT
DTSTART:20260308T100000
END:DAYLIGHT
BEGIN:STANDARD
TZOFFSETFROM:-0700
TZOFFSETTO:-0800
TZNAME:PST
DTSTART:20261101T090000
END:STANDARD
END:VTIMEZONE
BEGIN:VEVENT
DTSTART;VALUE=DATE:20251120
DTEND;VALUE=DATE:20251121
DTSTAMP:20260421T055936
CREATED:20250713T002154Z
LAST-MODIFIED:20250713T004200Z
UID:3182-1763596800-1763683199@www.safeschoolsdc.org
SUMMARY:Transgender Day of Remembrance
DESCRIPTION:Transgender Day of Remembrance\nA solemn vigil honoring transgender individuals who have lost their lives to anti-trans violence. Through candlelight\, speeches\, and moments of reflection\, we commit to raising awareness and combating transphobia. Learn more.
URL:https://www.safeschoolsdc.org/event/transgender-day-of-remembrance-2
LOCATION:Palm Springs City Hall\, 3200 E. Tahquitz Canyon Way\, Palm Springs\, CA\, 922602\, United States
CATEGORIES:Awareness Date
ATTACH;FMTTYPE=image/png:https://www.safeschoolsdc.org/wp-content/uploads/2025/07/Untitled-17.png
END:VEVENT
BEGIN:VEVENT
DTSTART;VALUE=DATE:20251113
DTEND;VALUE=DATE:20251120
DTSTAMP:20260421T055936
CREATED:20250713T000458Z
LAST-MODIFIED:20250713T004306Z
UID:3178-1762992000-1763596799@www.safeschoolsdc.org
SUMMARY:Transgender Awareness Week
DESCRIPTION:Transgender Awareness Week (November 13—19)\nA week of events and storytelling aimed at educating the community about transgender lives and rights. Each day highlights different aspects of trans history\, health\, and inclusion\, culminating in the Transgender Day of Remembrance.
URL:https://www.safeschoolsdc.org/event/transgender-awareness-week
CATEGORIES:Awareness Date
ATTACH;FMTTYPE=image/png:https://www.safeschoolsdc.org/wp-content/uploads/2025/07/Untitled-19.png
END:VEVENT
BEGIN:VEVENT
DTSTART;VALUE=DATE:20251011
DTEND;VALUE=DATE:20251012
DTSTAMP:20260421T055936
CREATED:20250712T231919Z
LAST-MODIFIED:20250712T234347Z
UID:3168-1760140800-1760227199@www.safeschoolsdc.org
SUMMARY:National Coming Out Day
DESCRIPTION:National Coming Out Day\nAn annual celebration of visibility and self-acceptance that encourages people to share their LGBTQ+ stories and stand in solidarity. It commemorates the first March on Washington for Lesbian and Gay Rights in 1979 and reminds us that every coming-out moment advances equality. Learn more.
URL:https://www.safeschoolsdc.org/event/3168
CATEGORIES:Awareness Date
ATTACH;FMTTYPE=image/png:https://www.safeschoolsdc.org/wp-content/uploads/2025/07/Untitled-14.png
END:VEVENT
END:VCALENDAR