BEGIN:VCALENDAR
VERSION:2.0
PRODID:-//Safe Schools Desert Cities - ECPv6.15.20//NONSGML v1.0//EN
CALSCALE:GREGORIAN
METHOD:PUBLISH
X-ORIGINAL-URL:https://www.safeschoolsdc.org
X-WR-CALDESC:Events for Safe Schools Desert Cities
REFRESH-INTERVAL;VALUE=DURATION:PT1H
X-Robots-Tag:noindex
X-PUBLISHED-TTL:PT1H
BEGIN:VTIMEZONE
TZID:America/Los_Angeles
BEGIN:DAYLIGHT
TZOFFSETFROM:-0800
TZOFFSETTO:-0700
TZNAME:PDT
DTSTART:20250309T100000
END:DAYLIGHT
BEGIN:STANDARD
TZOFFSETFROM:-0700
TZOFFSETTO:-0800
TZNAME:PST
DTSTART:20251102T090000
END:STANDARD
BEGIN:DAYLIGHT
TZOFFSETFROM:-0800
TZOFFSETTO:-0700
TZNAME:PDT
DTSTART:20260308T100000
END:DAYLIGHT
BEGIN:STANDARD
TZOFFSETFROM:-0700
TZOFFSETTO:-0800
TZNAME:PST
DTSTART:20261101T090000
END:STANDARD
BEGIN:DAYLIGHT
TZOFFSETFROM:-0800
TZOFFSETTO:-0700
TZNAME:PDT
DTSTART:20270314T100000
END:DAYLIGHT
BEGIN:STANDARD
TZOFFSETFROM:-0700
TZOFFSETTO:-0800
TZNAME:PST
DTSTART:20271107T090000
END:STANDARD
END:VTIMEZONE
BEGIN:VEVENT
DTSTART;TZID=America/Los_Angeles:20260514T083000
DTEND;TZID=America/Los_Angeles:20260514T110000
DTSTAMP:20260424T102843
CREATED:20250908T013818Z
LAST-MODIFIED:20260406T223351Z
UID:3226-1778747400-1778756400@www.safeschoolsdc.org
SUMMARY:Harvey Milk Diversity Breakfast '26
DESCRIPTION:The Palm Springs Harvey Milk Diversity Breakfast is an annual event honoring the life and legacy of Harvey Milk\, one of the first openly gay elected officials in the United States and a tireless advocate for equality\, justice\, and hope. \n\nProduced by the Harvey Milk Foundation in partnership with Greater Palm Springs Pride\, the breakfast brings together civic\, interfaith\, education\, diversity\, and social justice leaders from across the region. The program features inspiring speakers\, special performances\, awards\, and opportunities to connect with community leaders committed to inclusion and equity. \nSafe Schools Desert Cities is proud to be a benefactor of the event and to facilitate attendance for approximately 200 students\, ensuring LGBTQ+ youth and allies have the opportunity to experience this powerful celebration of leadership\, visibility\, and community. \nProceeds from the event benefit Coachella Valley youth\, including Gay‑Straight Alliance (GSA) clubs and LGBTQ+ youth‑focused programs\, helping to advance Harvey Milk’s enduring vision of dignity\, safety\, and opportunity for all. \nTickets\n\nLearn more. \n 
URL:https://www.safeschoolsdc.org/event/harvey-milk-diversity-breakfast-2026
LOCATION:Palm Springs Convention Center\, 277 N. Avenida Caballeros\, Palm Springs\, CA\, 92262\, United States
CATEGORIES:Fundraiser,GSA Events
ATTACH;FMTTYPE=image/png:https://www.safeschoolsdc.org/wp-content/uploads/2025/09/HarveyMilk26.png
END:VEVENT
END:VCALENDAR